View In:
ArcGIS JavaScript
ArcGIS Online Map Viewer
ArcGIS Earth
ArcMap
ArcGIS Pro
View Footprint In:
ArcGIS Online Map Viewer
Service Description: Provides context for a wide range of people and supports a variety of application needs within a local government. The layers in this basemap provide context for multiple workflows, such as editing data or producing web maps. It includes structures, roads, major facilities, water features, and boundaries. This map also includes Campus Basemap can be used to create a high-resolution, multi-scale basemap for a university or business campus. It can also be used by government agencies to produce a high-resolution basemap for a downtown, government complex, or military base.
Map Name: Layers
Legend
All Layers and Tables
Dynamic Legend
Dynamic All Layers
Layers:
Description: Provides context for a wide range of people and supports a variety of application needs within a local government. The layers in this basemap provide context for multiple workflows, such as editing data or producing web maps. It includes structures, roads, major facilities, water features, and boundaries. This map also includes Campus Basemap can be used to create a high-resolution, multi-scale basemap for a university or business campus. It can also be used by government agencies to produce a high-resolution basemap for a downtown, government complex, or military base.
Service Item Id: 7781bcab6c0542709876f5289f0ce905
Copyright Text:
Spatial Reference:
102100
(3857)
LatestVCSWkid(0)
Single Fused Map Cache: true
Tile Info:
- Height: 256.0
- Width: 256.0
- DPI: 96.0
-
Levels of Detail: 24
-
Level ID: 0
[ Start Tile, End Tile ]
- Resolution: 156543.03392800014
- Scale: 5.91657527591555E8
-
Level ID: 1
[ Start Tile, End Tile ]
- Resolution: 78271.51696399994
- Scale: 2.95828763795777E8
-
Level ID: 2
[ Start Tile, End Tile ]
- Resolution: 39135.75848200009
- Scale: 1.47914381897889E8
-
Level ID: 3
[ Start Tile, End Tile ]
- Resolution: 19567.87924099992
- Scale: 7.3957190948944E7
-
Level ID: 4
[ Start Tile, End Tile ]
- Resolution: 9783.93962049996
- Scale: 3.6978595474472E7
-
Level ID: 5
[ Start Tile, End Tile ]
- Resolution: 4891.96981024998
- Scale: 1.8489297737236E7
- Format: PNG32
- Compression Quality: 0.0
- Origin: X: -2.0037508342787E7
Y: 2.0037508342787E7
- Spatial Reference: 102100
(3857)
LatestVCSWkid(0)
Storage Info:
- Storage Format: esriMapCacheStorageModeCompactV2
- Packet Size: 128
Initial Extent:
XMin: -9771412.310889225
YMin: 5161650.264878831
XMax: -9753460.551224362
YMax: 5173930.697485392
Spatial Reference: 102100
(3857)
LatestVCSWkid(0)
Full Extent:
XMin: -9768772.682787638
YMin: 5162778.438696082
XMax: -9756098.891023597
YMax: 5172800.161674974
Spatial Reference: 102100
(3857)
LatestVCSWkid(0)
Units: esriMeters
Supported Image Format Types: PNG32,PNG24,PNG,JPG,DIB,TIFF,EMF,PS,PDF,GIF,SVG,SVGZ,BMP
Document Info:
Title: Layers
Author:
Comments: Provides a consumer representation of parcel information that can be used with infrastructure and parcel information. The layers in the map provide context for multiple workflows, such as editing data or producing web maps. Includes structures, roads, major facilities and landmarks, water features, parcels, addresses and boundaries. This basemap uses design elements found in the General Purpose basemap but adds additional content at larger scales.
Subject: The General Purpose basemap provides context for a wide range of people and supports a variety of application needs within a local government.
Category:
Keywords: University Campus,Campus Basemap,Local Government Downtown,General Purpose,Basemap
AntialiasingMode: None
TextAntialiasingMode: Force
Supports Dynamic Layers: true
MaxRecordCount: 1000
MaxImageHeight: 4096
MaxImageWidth: 4096
Supported Query Formats: JSON, geoJSON, PBF
Supports Query Data Elements: true
Min Scale: 144447.638572
Max Scale: 564.248588
Supports Datum Transformation: true
Child Resources:
Info
Dynamic Layer
Supported Operations:
Export Map
Identify
QueryLegends
QueryDomains
Find
Return Updates